BEGIN:VCALENDAR
VERSION:2.0
PRODID:-//Tukios.com/
BEGIN:VEVENT
UID:b63d97c4-f734-4c9b-aed5-26f1a85ba22f@www.martinezfuneral.com
DTSTAMP:20260425T113436Z
DTSTART:20260428T163000Z
DTEND:20260428T173000Z
SUMMARY:Burial
DESCRIPTION:Interment to following the Holy Mass at Ector County Cemetery 
	The Peaceful Gardens Section.
URL:https://www.martinezfuneral.com/obituaries/rosalee-marruffo
LOCATION:  Electric St  Odessa TX 79761
GEO:31.8477961;-102.3489886
END:VEVENT
END:VCALENDAR