BEGIN:VCALENDAR
VERSION:2.0
PRODID:-//Tukios.com/
BEGIN:VEVENT
UID:4ecf0c41-8862-428a-b2f7-956e79be7d40@www.martinezfuneral.com
DTSTAMP:20260425T113035Z
DTSTART:20260428T150000Z
DTEND:20260428T160000Z
SUMMARY:Mass
DESCRIPTION:Mass will be celebrated at 10AM Tuesday April 28,2026 at St. 
	Joseph`s Catholic Church with Fr.Mike Elsner
URL:https://www.martinezfuneral.com/obituaries/rosalee-marruffo
LOCATION: 907 S Dixie Blvd  Odessa TX 79761
GEO:31.8398457;-102.352607
END:VEVENT
END:VCALENDAR