BEGIN:VCALENDAR
VERSION:2.0
PRODID:-//Tukios.com/
BEGIN:VEVENT
UID:7935c793-b035-49b5-91d9-3c9050c79ff9@www.martinezfuneral.com
DTSTAMP:20260425T113435Z
DTSTART:20260428T000000Z
DTEND:20260428T010000Z
SUMMARY:Rosary
DESCRIPTION:A Rosary will be recited at 7PM in The Inside Chapel of 
	Martinez Funeral Home Dixie Location
URL:https://www.martinezfuneral.com/obituaries/rosalee-marruffo
LOCATION: 1040 S Dixie Blvd  Odessa TX 79761
GEO:31.8388884;-102.3533412
END:VEVENT
END:VCALENDAR