BEGIN:VCALENDAR
VERSION:2.0
PRODID:-//Tukios.com/
BEGIN:VEVENT
UID:42f1360f-3041-4035-a050-703e8ad90f8c@www.martinezfuneral.com
DTSTAMP:20260425T113136Z
DTSTART:20260427T180000Z
DTEND:20260428T020000Z
SUMMARY:Visitation
DESCRIPTION:Visitation will be held  in The inside Chapel of Martinez 
	Funeral Home Dixie Location
URL:https://www.martinezfuneral.com/obituaries/rosalee-marruffo
LOCATION: 1040 S Dixie Blvd  Odessa TX 79761
GEO:31.8388884;-102.3533412
END:VEVENT
END:VCALENDAR