BEGIN:VCALENDAR
VERSION:2.0
PRODID:-//Tukios.com/
BEGIN:VEVENT
UID:95a9e096-6767-43fc-b324-18c8725c52ba@www.martinezfuneral.com
DTSTAMP:20260421T193439Z
DTSTART:20260430T130000Z
DTEND:20260430T220000Z
SUMMARY:Cremation
DESCRIPTION:
URL:https://www.martinezfuneral.com/obituaries/refugio-llanez
LOCATION: 1040 S Dixie Blvd  Odessa TX 79761
GEO:31.8388884;-102.3533412
END:VEVENT
END:VCALENDAR