BEGIN:VCALENDAR
VERSION:2.0
PRODID:-//Tukios.com/
BEGIN:VEVENT
UID:2ea7cdcf-57b6-4aa8-a891-a719ca384356@www.martinezfuneral.com
DTSTAMP:20260421T193818Z
DTSTART:20260422T000000Z
DTEND:20260422T010000Z
SUMMARY:Rosary
DESCRIPTION:
URL:https://www.martinezfuneral.com/obituaries/refugio-llanez
LOCATION: 1040 S Dixie Blvd  Odessa TX 79761
GEO:31.8388884;-102.3533412
END:VEVENT
END:VCALENDAR