BEGIN:VCALENDAR
VERSION:2.0
PRODID:-//Tukios.com/
BEGIN:VEVENT
UID:d1c0a1dd-1f3c-4e1d-8d99-5a1d3dffd56a@www.martinezfuneral.com
DTSTAMP:20260421T193951Z
DTSTART:20260421T180000Z
DTEND:20260422T020000Z
SUMMARY:Visitation
DESCRIPTION:
URL:https://www.martinezfuneral.com/obituaries/refugio-llanez
LOCATION: 1040 S Dixie Blvd  Odessa TX 79761
GEO:31.8388884;-102.3533412
END:VEVENT
END:VCALENDAR