BEGIN:VCALENDAR
VERSION:2.0
PRODID:-//Tukios.com/
BEGIN:VEVENT
UID:579b4f98-125c-4a44-9b2e-c472a3259aff@www.martinezfuneral.com
DTSTAMP:20260421T181241Z
DTSTART:20260424T160000Z
DTEND:20260424T170000Z
SUMMARY:Funeral Service
DESCRIPTION:
URL:https://www.martinezfuneral.com/obituaries/larry-hendrix
LOCATION: 1040 S Dixie Blvd  Odessa TX 79761
GEO:31.8388884;-102.3533412
END:VEVENT
END:VCALENDAR