BEGIN:VCALENDAR
VERSION:2.0
PRODID:-//Tukios.com/
BEGIN:VEVENT
UID:eb7d0efc-7f19-4701-a0cc-37e18f01fd0e@www.martinezfuneral.com
DTSTAMP:20260421T181510Z
DTSTART:20260423T180000Z
DTEND:20260424T020000Z
SUMMARY:Visitation
DESCRIPTION:
URL:https://www.martinezfuneral.com/obituaries/larry-hendrix
LOCATION: 1040 S Dixie Blvd  Odessa TX 79761
GEO:31.8388884;-102.3533412
END:VEVENT
END:VCALENDAR