BEGIN:VCALENDAR
VERSION:2.0
PRODID:-//Tukios.com/
BEGIN:VEVENT
UID:5e2f0643-0f2d-4294-9eeb-1157688d0098@www.martinezfuneral.com
DTSTAMP:20260422T091031Z
DTSTART:20260418T174500Z
DTEND:20260418T184500Z
SUMMARY:Burial
DESCRIPTION:
URL:https://www.martinezfuneral.com/obituaries/johnnie-carter
LOCATION: 6801 W Hwy 80 E  Odessa TX 79762
GEO:31.8818653;-102.296615
END:VEVENT
END:VCALENDAR