BEGIN:VCALENDAR
VERSION:2.0
PRODID:-//Tukios.com/
BEGIN:VEVENT
UID:9a1963a3-e5f5-4285-9127-914bfdbc32f7@www.martinezfuneral.com
DTSTAMP:20260422T222305Z
DTSTART:20260424T163000Z
DTEND:20260424T173000Z
SUMMARY:Burial
DESCRIPTION:
URL:https://www.martinezfuneral.com/obituaries/hilda-alvarado
LOCATION: 6713 East Business 20  Odessa TX 79762
GEO:31.8183984;-102.2336281
END:VEVENT
END:VCALENDAR