BEGIN:VCALENDAR
VERSION:2.0
PRODID:-//Tukios.com/
BEGIN:VEVENT
UID:ea2bcec1-52b2-41a6-8028-8110699a3b07@www.martinezfuneral.com
DTSTAMP:20260422T221704Z
DTSTART:20260424T150000Z
DTEND:20260424T160000Z
SUMMARY:Funeral Service
DESCRIPTION:
URL:https://www.martinezfuneral.com/obituaries/hilda-alvarado
LOCATION:Iglesia Adventista del Septimo Dia 2680 US-385  Odessa TX 79766
GEO:31.8116537;-102.3608252
END:VEVENT
END:VCALENDAR